BEGIN:VCALENDAR
VERSION:2.0
PRODID:-//Literatur- und Kunstkreis Uslar e. V.//NONSGML kigkonsult.se iCalcreator 2.41.92//
CALSCALE:GREGORIAN
METHOD:PUBLISH
UID:61353064-3564-4163-b938-343834363263
X-WR-CALNAME:iCagenda
X-WR-CALDESC:Event Management Extension for Joomla!
X-WR-RELCALID:3E26604A-50F4-4449-8B3E-E4F4932D05B5
X-WR-TIMEZONE:Europe/Berlin
BEGIN:VTIMEZONE
TZID:Europe/Berlin
TZUNTIL:20181028T010000Z
BEGIN:STANDARD
TZNAME:CET
DTSTART:20151025T030000
TZOFFSETFROM:+0200
TZOFFSETTO:+0100
RDATE:20161030T030000
RDATE:20171029T030000
END:STANDARD
BEGIN:DAYLIGHT
TZNAME:CEST
DTSTART:20160327T020000
TZOFFSETFROM:+0100
TZOFFSETTO:+0200
RDATE:20170326T020000
RDATE:20180325T020000
END:DAYLIGHT
END:VTIMEZONE
BEGIN:VEVENT
UID:37643263-3231-4133-b465-623062303332
DTSTAMP:20260422T161209Z
CATEGORIES:2016
CLASS:PUBLIC
DESCRIPTION;ALTREP="CID:<FFFF__=0ABBE548DFE235B58f9e8a93d@coffeebean.com>":
 ?SHMALTZ! - Welcome To Malwonia!\nBalkanCumbia &amp\; Malwonian Blues\n'En
 dlich ist es soweit\, die Zeit des Wartens ist vorbei. Vor Euren Augen\, i
 n Euren Ohren und in Euren Herzen zeigt sich: Malwonia!'\nMalwonia ist die
  wunderliche Welt\, in der ?Shmaltz! musizieren und existieren und in die 
 sie uns mit ihrer Musik entf&uuml\;hren. ?Shmaltz! steht f&uuml\;r Herzblu
 t\, Rhythmus und Leidenschaft\, ein bi&szlig\;chen Kitsch und viel Gef&uum
 l\;hl. Von Balkan bis Kurt Weill\, von Cumbia bis Tom Waits\, von Berliner
  Schnauze bis Fellini-Filmmusik &ndash\; die schillernde Vielfalt der St&u
 uml\;cke spiegelt sich auch im ungew&ouml\;hnlichen Instrumentarium der Ba
 nd wider: Neben der 'klassischen' Besetzung Geige\, Akkordeon\, Kontrabass
  spielen auch Banjo\, Singende S&auml\;ge\, Toypiano\, Gitarre\, eine Trom
 petengeige\, Tenorhorn\, Triangel\, Trompete und eine Posaune aus New Orle
 ans mit.\n?Shmaltz!-Musik ist 100%ige Tanzmusik\, gesungen wird in Malwoni
 sch\, Deutsch\, Spanisch\, Englisch und Jiddisch.\nDie Band bespielte seit
  2006 unz&auml\;hlige Hochzeiten\, Stra&szlig\;enfeste\, Beerdigungen oder
  Steuerr&uuml\;ckzahlungs-Parties\, gastierte auf Festivals\, in Kirchen\,
  Nachtclubs und Theatern und widmet sich so ihrer freudigen Mission\, von 
 ihrer Exil-Heimat Berlin die Kultur Malwonias in die Welt zu tragen.\nViva
  la Malwonia!\nAktuelle Live-Besetzung:\nCalypsia Bradzbujamon - Akkordeon
 \, Gesang\, Toypiano Cosmo W. Pepper - Kontrabass\, Gesang\, Singende S&au
 ml\;ge Dr. Itzbar Dschucka - Banjo\, Triangel\, Tenorhorn\, Gitarre\, Ch&o
 uml\;re Levante I.N. Patsh - Gesang\, Percussion\, Trompete\, Thermosflasc
 he Marsia Ekna Sluck-Luxcovia - Posaune\, Toypiano Aurora Mende - Violine\
 , Trompetengeige
DTSTART:20161015T180000Z
DTEND:20161015T180000Z
GEO:+51.667221;+9.63117
LOCATION:Forum Gymnasium Uslar
ORGANIZER:
SEQUENCE:1
SUMMARY:Malwonia
TRANSP:OPAQUE
URL:https://literatur-kunstkreis-uslar.de/index.php/programm/archiv/91-malw
 onia
END:VEVENT
END:VCALENDAR
