BEGIN:VCALENDAR
VERSION:2.0
PRODID:-//Literatur- und Kunstkreis Uslar e. V.//NONSGML kigkonsult.se iCalcreator 2.41.92//
CALSCALE:GREGORIAN
METHOD:PUBLISH
UID:39623966-6632-4639-a363-636430623132
X-WR-CALNAME:iCagenda
X-WR-CALDESC:Event Management Extension for Joomla!
X-WR-RELCALID:3E26604A-50F4-4449-8B3E-E4F4932D05B5
X-WR-TIMEZONE:Europe/Berlin
BEGIN:VTIMEZONE
TZID:Europe/Berlin
TZUNTIL:20181028T010000Z
BEGIN:STANDARD
TZNAME:CET
DTSTART:20161030T030000
TZOFFSETFROM:+0200
TZOFFSETTO:+0100
RDATE:20171029T030000
END:STANDARD
BEGIN:DAYLIGHT
TZNAME:CEST
DTSTART:20160327T020000
TZOFFSETFROM:+0100
TZOFFSETTO:+0200
RDATE:20170326T020000
RDATE:20180325T020000
END:DAYLIGHT
END:VTIMEZONE
BEGIN:VEVENT
UID:65633934-3637-4861-b539-633764333234
DTSTAMP:20260422T161458Z
CATEGORIES:2016
CLASS:PUBLIC
DESCRIPTION:
DTSTART:20161027T220000Z
DTEND:20161027T220000Z
GEO:+51.656517;+9.638077
LOCATION:Grundschule Uslar
ORGANIZER:
SEQUENCE:1
SUMMARY:Autorenlesung mit Boris Pfeiffer
TRANSP:OPAQUE
URL:https://literatur-kunstkreis-uslar.de/index.php/programm/archiv/92-auto
 renlesung-mit-boris-pfeiffer
END:VEVENT
END:VCALENDAR
