BEGIN:VCALENDAR
VERSION:2.0
PRODID:-//Literatur- und Kunstkreis Uslar e. V.//NONSGML kigkonsult.se iCalcreator 2.41.92//
CALSCALE:GREGORIAN
METHOD:PUBLISH
UID:66393434-3363-4562-a431-633132363130
X-WR-CALNAME:iCagenda
X-WR-CALDESC:Event Management Extension for Joomla!
X-WR-RELCALID:3E26604A-50F4-4449-8B3E-E4F4932D05B5
X-WR-TIMEZONE:Europe/Berlin
BEGIN:VTIMEZONE
TZID:Europe/Berlin
TZUNTIL:20181028T010000Z
BEGIN:STANDARD
TZNAME:CET
DTSTART:20161030T030000
TZOFFSETFROM:+0200
TZOFFSETTO:+0100
RDATE:20171029T030000
END:STANDARD
BEGIN:DAYLIGHT
TZNAME:CEST
DTSTART:20160327T020000
TZOFFSETFROM:+0100
TZOFFSETTO:+0200
RDATE:20170326T020000
RDATE:20180325T020000
END:DAYLIGHT
END:VTIMEZONE
BEGIN:VEVENT
UID:62396334-3362-4931-b166-353463643837
DTSTAMP:20260422T161725Z
CATEGORIES:2016
CLASS:PUBLIC
DESCRIPTION;ALTREP="CID:<FFFF__=0ABBE548DFE235B58f9e8a93d@coffeebean.com>":
 Das G&ouml\;ttinger Sinfonieorchester unter ihrem mitrei&szlig\;endem Chef
 dirigenten Christoph-Mathias Mueller pr&auml\;sentiert als Adventskonzert 
 beliebte klassische Melodien von Niccolo Paganini &uuml\;ber Johann Straus
 s bis Jaques Offenbach. Der LuK hat sich kurzfristig zu dieser Veranstaltu
 ng entschlossen\, weil das Orchester aus Terminproblemen das schon traditi
 onelle Neujahrkonzert wie in diesem und dem letzten Jahr leider f&uuml\;r 
 2017 nicht zusagen konnte. Wir hoffen auf ein ausverkauftes Haus!\nAngesic
 hts seiner 150-j&auml\;hrigen Geschichte z&auml\;hlt das G&ouml\;ttinger S
 ymphonie Orchester bundesweit nicht nur zu den traditionsreichsten Orchest
 ern\, sondern mit &uuml\;ber 100 Konzerten und mehr als 90.000 Zuh&ouml\;r
 ern pro Jahr zugleich zu den erfolgreichsten und inspirierendsten Klangk&o
 uml\;rpern im gesamten mittel- und norddeutschen Raum. Herausragende Dirig
 enten und Solisten von internationalem Rang geh&ouml\;ren seit seiner Gr&u
 uml\;ndung im Jahr 1862 zu seinen musikalischen Weggef&auml\;hrten.\nSeit 
 dem Jahr 2005 leitet Generalmusikdirektor Christoph-Mathias Mueller das Or
 chester. Heute umfasst das Orchester Musiker aus rund 20 Nationen. Nationa
 le und internationale Auftritte wie auch kontinuierlich hohe Besucherzahle
 n und Medienberichte im In- und Ausland dokumentieren seinen herausragende
 n Stellenwert. Einladungen zu internationalen Musikfestspielen wie dem Fes
 tival d&rsquo\; Echternach\, den Internationalen H&auml\;ndel-Festspielen 
 G&ouml\;ttingen\, dem Choriner Musiksommer\, den Festspielen Mecklenburg-V
 orpommern oder den Sommerlichen Musiktagen Hitzacker unterstreichen sein i
 nternationales Renomm&eacute\;e.\nAuftritte in Uslar: Neujahrskonzerte 201
 5 und 2016\nProgramm:\nCarl Maria von Weber: Beherrschender der Geister - 
 Ouvert&uuml\;re Johann Strau&szlig\; (Sohn): Mephistos H&ouml\;llenrufe\, 
 Walzer op. 101 Niccolo Paganini: Konzert f&uuml\;r Violine und Orchester N
 r. 2 h-Moll op. 7 'La clochette' Josef Strau&szlig\;: Ohne Sorgen\, Polka 
 schnell op. 271 Johann Strau&szlig\; (Vater): Das Leben ist ein Tanz! Walz
 er op-49 Johannes Brahms: ungarische T&auml\;nze Johann Strau&szlig\; (Soh
 n): Liebeslieder\, Walzer op. 114 Jacques Offenbach: Orpheus in der Unterw
 elt: Can Can\nSolist: Anna Reszniak - Violine Leitung: Christoph-Mathias M
 &uuml\;ller
DTSTART:20161203T190000Z
DTEND:20161203T190000Z
GEO:+51.667221;+9.63117
LOCATION:Forum im Gymnasium\, Kurt-Zimmermann-Str. 1\, 37170 Uslar
ORGANIZER:
SEQUENCE:1
SUMMARY:Heiteres Punschkonzert mit dem Göttinger Symphonie Orchester
TRANSP:OPAQUE
URL:https://literatur-kunstkreis-uslar.de/index.php/programm/archiv/95-adve
 ntskonzert-mit-dem-goettinger-symphonie-orchester
END:VEVENT
END:VCALENDAR
