BEGIN:VCALENDAR
VERSION:2.0
PRODID:-//Literatur- und Kunstkreis Uslar e. V.//NONSGML kigkonsult.se iCalcreator 2.41.92//
CALSCALE:GREGORIAN
METHOD:PUBLISH
UID:31376363-3132-4462-b830-633761323538
X-WR-CALNAME:iCagenda
X-WR-CALDESC:Event Management Extension for Joomla!
X-WR-RELCALID:3E26604A-50F4-4449-8B3E-E4F4932D05B5
X-WR-TIMEZONE:Europe/Berlin
BEGIN:VTIMEZONE
TZID:Europe/Berlin
TZUNTIL:20181028T010000Z
BEGIN:STANDARD
TZNAME:CET
DTSTART:20161030T030000
TZOFFSETFROM:+0200
TZOFFSETTO:+0100
RDATE:20171029T030000
END:STANDARD
BEGIN:DAYLIGHT
TZNAME:CEST
DTSTART:20160327T020000
TZOFFSETFROM:+0100
TZOFFSETTO:+0200
RDATE:20170326T020000
RDATE:20180325T020000
END:DAYLIGHT
END:VTIMEZONE
BEGIN:VEVENT
UID:37613233-6563-4536-a333-363261653234
DTSTAMP:20260422T161751Z
CATEGORIES:2017
CLASS:PUBLIC
DESCRIPTION:
DTSTART:20170113T180000Z
DTEND:20170113T180000Z
GEO:+51.658813;+9.635048
LOCATION:Hotel Menzhausen
ORGANIZER:
SEQUENCE:1
SUMMARY:30 Jahre Literatur-und Kunstkreis Uslar
TRANSP:OPAQUE
URL:https://literatur-kunstkreis-uslar.de/index.php/programm/archiv/96-30-j
 ahre-literatur-und-kunstkreis-uslar
END:VEVENT
END:VCALENDAR
