BEGIN:VCALENDAR
VERSION:2.0
PRODID:-//Literatur- und Kunstkreis Uslar e. V.//NONSGML kigkonsult.se iCalcreator 2.41.92//
CALSCALE:GREGORIAN
METHOD:PUBLISH
UID:62396637-6233-4664-b065-346636373761
X-WR-CALNAME:iCagenda
X-WR-CALDESC:Event Management Extension for Joomla!
X-WR-RELCALID:3E26604A-50F4-4449-8B3E-E4F4932D05B5
X-WR-TIMEZONE:Europe/Berlin
BEGIN:VTIMEZONE
TZID:Europe/Berlin
TZUNTIL:20181028T010000Z
BEGIN:STANDARD
TZNAME:CET
DTSTART:20161030T030000
TZOFFSETFROM:+0200
TZOFFSETTO:+0100
RDATE:20171029T030000
END:STANDARD
BEGIN:DAYLIGHT
TZNAME:CEST
DTSTART:20160327T020000
TZOFFSETFROM:+0100
TZOFFSETTO:+0200
RDATE:20170326T020000
RDATE:20180325T020000
END:DAYLIGHT
END:VTIMEZONE
BEGIN:VEVENT
UID:30656335-3062-4037-b765-313464313134
DTSTAMP:20260422T161203Z
CATEGORIES:2017
CLASS:PUBLIC
DESCRIPTION;ALTREP="CID:<FFFF__=0ABBE548DFE235B58f9e8a93d@coffeebean.com>":
 Reiner Kr&ouml\;hnert ist politischer Kabarettist mit Leib und Seele und e
 in Meister der Parodie. Von Angela Merkel &uuml\;ber Franz Beckenbauer bis
  hin zu Joachim Gauck verk&ouml\;rpert er treffsicher viele Personen des &
 ouml\;ffentlichen Lebens.
DTSTART:20170218T190000Z
DTEND:20170218T190000Z
GEO:+51.654633;+9.655201
LOCATION:Kulturbahnhof Uslar
ORGANIZER:
SEQUENCE:1
SUMMARY:Mutti reloaded
TRANSP:OPAQUE
URL:https://literatur-kunstkreis-uslar.de/index.php/programm/archiv/98-mutt
 ireloaded
END:VEVENT
END:VCALENDAR
