BEGIN:VCALENDAR
VERSION:2.0
PRODID:-//Literatur- und Kunstkreis Uslar e. V.//NONSGML kigkonsult.se iCalcreator 2.41.92//
CALSCALE:GREGORIAN
METHOD:PUBLISH
UID:35633161-3637-4366-b437-643962376639
X-WR-CALNAME:iCagenda
X-WR-CALDESC:Event Management Extension for Joomla!
X-WR-RELCALID:3E26604A-50F4-4449-8B3E-E4F4932D05B5
X-WR-TIMEZONE:Europe/Berlin
BEGIN:VTIMEZONE
TZID:Europe/Berlin
TZUNTIL:20271031T010000Z
BEGIN:STANDARD
TZNAME:CET
DTSTART:20241027T030000
TZOFFSETFROM:+0200
TZOFFSETTO:+0100
RDATE:20251026T030000
RDATE:20261025T030000
END:STANDARD
BEGIN:DAYLIGHT
TZNAME:CEST
DTSTART:20250330T020000
TZOFFSETFROM:+0100
TZOFFSETTO:+0200
RDATE:20260329T020000
RDATE:20270328T020000
END:DAYLIGHT
END:VTIMEZONE
BEGIN:VEVENT
UID:62346533-6264-4164-b238-343239363737
DTSTAMP:20260422T153646Z
CATEGORIES:2025
CLASS:PUBLIC
DESCRIPTION;ALTREP="CID:<FFFF__=0ABBE548DFE235B58f9e8a93d@coffeebean.com>":
 Der Autor von 'Maria\, ihm schmeckt's nicht' und 'Das Pubertier' liest unt
 erhaltsam und witzig über Erziehungserkenntnisse\, die Liebe oder das Ende
  der Vertragslaufbahn als Vater ...
DTSTART:20251009T173000Z
DTEND:20251009T173000Z
GEO:+51.659306;+9.631763
LOCATION:Ev. Gemeindehaus Uslar
ORGANIZER:
SEQUENCE:1
SUMMARY:Jan Weiler: Das Beste! Mein Leben zwischen den Pubertieren
TRANSP:OPAQUE
URL:https://literatur-kunstkreis-uslar.de/index.php/programm/jahresprogramm
 /204-jan-weiler-autor-kolumnist-sekundenkleber
END:VEVENT
END:VCALENDAR
