BEGIN:VCALENDAR
VERSION:2.0
PRODID:-//Literatur- und Kunstkreis Uslar e. V.//NONSGML kigkonsult.se iCalcreator 2.41.92//
CALSCALE:GREGORIAN
METHOD:PUBLISH
UID:34623965-3032-4061-b862-643365386464
X-WR-CALNAME:iCagenda
X-WR-CALDESC:Event Management Extension for Joomla!
X-WR-RELCALID:3E26604A-50F4-4449-8B3E-E4F4932D05B5
X-WR-TIMEZONE:Europe/Berlin
BEGIN:VTIMEZONE
TZID:Europe/Berlin
TZUNTIL:20271031T010000Z
BEGIN:STANDARD
TZNAME:CET
DTSTART:20251026T030000
TZOFFSETFROM:+0200
TZOFFSETTO:+0100
RDATE:20261025T030000
END:STANDARD
BEGIN:DAYLIGHT
TZNAME:CEST
DTSTART:20260329T020000
TZOFFSETFROM:+0100
TZOFFSETTO:+0200
RDATE:20270328T020000
END:DAYLIGHT
END:VTIMEZONE
BEGIN:VEVENT
UID:39633239-3864-4133-a663-643561346631
DTSTAMP:20260422T133634Z
CATEGORIES:2026
CLASS:PUBLIC
DESCRIPTION;ALTREP="CID:<FFFF__=0ABBE548DFE235B58f9e8a93d@coffeebean.com>":
 Allzeit bereit unterstützen Hunde uns Menschen bei alltäg- lichen Aufgaben
  und Problemen. Die felligen Helfer sind immer zur Stelle! Aber was genau 
 macht eine Diabetiker- warnhündin oder ein Epilepsiewarnhund? Natürlich da
 rf Filou\, der Hund des Autors\, im Buch und bei der Lesung nicht fehlen.
 \nIn Kooperation mit:\n&nbsp\;
DTSTART:20260430T220000Z
DTEND:20260530T220000Z
GEO:+51.665592;+9.739195
LOCATION:Grundschule Volpriehausen
ORGANIZER:
SEQUENCE:1
SUMMARY:Henrick Clausen: Lesung mit Hund
TRANSP:OPAQUE
URL:https://literatur-kunstkreis-uslar.de/index.php/programm/jahresprogramm
 /214-henrick-clausen-lesung-mit-hund-4
END:VEVENT
END:VCALENDAR
