BEGIN:VCALENDAR
VERSION:2.0
PRODID:-//Literatur- und Kunstkreis Uslar e. V.//NONSGML kigkonsult.se iCalcreator 2.41.92//
CALSCALE:GREGORIAN
METHOD:PUBLISH
UID:62363934-6563-4739-a166-373633303262
X-WR-CALNAME:iCagenda
X-WR-CALDESC:Event Management Extension for Joomla!
X-WR-RELCALID:3E26604A-50F4-4449-8B3E-E4F4932D05B5
X-WR-TIMEZONE:Europe/Berlin
BEGIN:VTIMEZONE
TZID:Europe/Berlin
TZUNTIL:20281029T010000Z
BEGIN:STANDARD
TZNAME:CET
DTSTART:20261025T030000
TZOFFSETFROM:+0200
TZOFFSETTO:+0100
RDATE:20271031T030000
END:STANDARD
BEGIN:DAYLIGHT
TZNAME:CEST
DTSTART:20260329T020000
TZOFFSETFROM:+0100
TZOFFSETTO:+0200
RDATE:20270328T020000
RDATE:20280326T020000
END:DAYLIGHT
END:VTIMEZONE
BEGIN:VEVENT
UID:62653535-3136-4431-a334-636631346532
DTSTAMP:20260422T134804Z
CATEGORIES:2026
CLASS:PUBLIC
DESCRIPTION;ALTREP="CID:<FFFF__=0ABBE548DFE235B58f9e8a93d@coffeebean.com>":
 Hinweise auf die gezeigten Filme finden Sie zeitnah vor der Veranstaltung 
 in der Presse sowie auf der Website des LuK.
DTSTART:20261120T160000Z
DTEND:20261120T180000Z
GEO:+51.651623;+9.650293
LOCATION:RGA Allershausen
ORGANIZER:
SEQUENCE:1
SUMMARY:Kinokultur in Allershausen: Kinderfilm
TRANSP:OPAQUE
URL:https://literatur-kunstkreis-uslar.de/index.php/programm/jahresprogramm
 /219-kinokultur-in-allershausen-kinderfilm
END:VEVENT
END:VCALENDAR
